BEGIN:VCALENDAR
VERSION:2.0
PRODID:-//Tip of the Mitt - ECPv6.15.20//NONSGML v1.0//EN
CALSCALE:GREGORIAN
METHOD:PUBLISH
X-WR-CALNAME:Tip of the Mitt
X-ORIGINAL-URL:https://div2.ncrnmra.org
X-WR-CALDESC:Events for Tip of the Mitt
REFRESH-INTERVAL;VALUE=DURATION:PT1H
X-Robots-Tag:noindex
X-PUBLISHED-TTL:PT1H
BEGIN:VTIMEZONE
TZID:America/Detroit
BEGIN:DAYLIGHT
TZOFFSETFROM:-0500
TZOFFSETTO:-0400
TZNAME:EDT
DTSTART:20250309T070000
END:DAYLIGHT
BEGIN:STANDARD
TZOFFSETFROM:-0400
TZOFFSETTO:-0500
TZNAME:EST
DTSTART:20251102T060000
END:STANDARD
BEGIN:DAYLIGHT
TZOFFSETFROM:-0500
TZOFFSETTO:-0400
TZNAME:EDT
DTSTART:20260308T070000
END:DAYLIGHT
BEGIN:STANDARD
TZOFFSETFROM:-0400
TZOFFSETTO:-0500
TZNAME:EST
DTSTART:20261101T060000
END:STANDARD
BEGIN:DAYLIGHT
TZOFFSETFROM:-0500
TZOFFSETTO:-0400
TZNAME:EDT
DTSTART:20270314T070000
END:DAYLIGHT
BEGIN:STANDARD
TZOFFSETFROM:-0400
TZOFFSETTO:-0500
TZNAME:EST
DTSTART:20271107T060000
END:STANDARD
END:VTIMEZONE
BEGIN:VEVENT
DTSTART;TZID=America/Detroit:20260108T000000
DTEND;TZID=America/Detroit:20260423T235959
DTSTAMP:20260423T132411
CREATED:20260201T215210Z
LAST-MODIFIED:20260201T223214Z
UID:1939-1767830400-1776988799@div2.ncrnmra.org
SUMMARY:Video Layout Tours
DESCRIPTION:Video Layout Tours and interviews of the modelers for 43 layouts that were featured in the Station No.VI 2025 NMRA National Convention.  The schedule below lists the layouts/modelers and debut times for each set of videos. You can access the released videos at any time on the Train Room Garychannel on YouTube. \n\n\n\nMaster Schedule NMRA Home Layout Tours copyDownload
URL:https://div2.ncrnmra.org/event/video-layout-tours/
CATEGORIES:Events
ATTACH;FMTTYPE=image/png:https://div2.ncrnmra.org/wp-content/uploads/2026/02/Screenshot-2026-02-01-at-5.25.29-PM.png
END:VEVENT
BEGIN:VEVENT
DTSTART;TZID=America/Detroit:20260516T100000
DTEND;TZID=America/Detroit:20260516T170000
DTSTAMP:20260423T132411
CREATED:20260201T203752Z
LAST-MODIFIED:20260222T062708Z
UID:1842-1778925600-1778950800@div2.ncrnmra.org
SUMMARY:2026 Spring Open House
DESCRIPTION:The Tip of the Mitt (Division 2)\, of the North Central Region (NCR)\, of the National Model Railroad Association (NMRA) is hosting a special one-time\, no-cost event. \n\n\n\nWhile this is a free event\, we are asking that an at-will donation be made to support our local Food Pantries: Leelanau Christian Neighbors and Father Fred Foundation of Traverse City. Donation containers will be available at each of the open railroads.  \n\n\n\nReserve your spot now! RSVP today!   \n\n\n\nRailroad Basics\n\n\n\n\nThere will be seven (7) operating model railroads to visit in and around the Traverse City area. \n\n\n\nThere are three (3) in Leelanau County\, three (3) in Grand Traverse County\, and one (1) in Benzie County. \n\n\n\nThe model railroads range between 32 sq. ft. and 1500 sq. ft. in size; everything from a 4’ x 8’ tabletop to complete basements. \n\n\n\nMost of the railroads are between 90% and 100% complete.  \n\n\n\nAll the layouts are in HO scale (1:87).\n\n\n\nYou are visiting individual residences.     \n\n\n\nThis is a family friendly event. Young children are welcome\, but they must be supervised by an adult.\n\n\n\nVisit one or as many as you like.\n\n\n\nNote: None of the open railroads are considered Handicap Accessible. All have steps and/or narrow doorways.\n\n\n\n\nRailroad Descriptions\n\n\n\nFollow the links below to view descriptions\, photos\, and an occasional video\, of the open railroads. \n\n\n\n\n\n\nErnie Barry’s East Raton and Santa Fe\n\n\n\nBill Horning’s Rio Grande Midland Railroad\n\n\n\nJens Hensel’s LNAC\n\n\n\nDr. John Campbell’s Ann Arbor Railroad\n\n\n\nKeith Aleo’s Florida East Coast Railway\n\n\n\nMichael Coonrod’s Big Sky View Railroad\n\n\n\nAl Johnson’s New York Central\n\n\n\n\n\n\n\nAl Johnson’s New York Central\n\n\n\nBill Horning’s Rio Grande Midland Railroad\n\n\n\nErnie Barry’s East Raton and Santa Fe\n\n\n\nJens Hensel’s LNAC\n\n\n\nKeith Aleo’s Florida East Coast Railway\n\n\n\nMichael Coonrod’s Big Sky View Railroad\n\n\n\nDr. John Campbell’s Ann Arbor Railroad\n\n\n\n\n\n\nRailroad Locations\n\n\n\n\n\n\n\nHere’s an approximate location of the open railroads. Everybody who enters an RSVP for the open house will be emailed a link to this Google Map in early May. You can then use this map to plan your visits and navigate to each of the open railroads. Look for a sign with traditional railroad crossbucks to indicate the location of the layout. That email will also include a suggested starting point based on your reservation RSVP date and your home location. This will only be for the 10:00 am start time to avoid congestion at the first railroad you visit. \n\n\n\n \n\n\n\n\n			\n				\n			\n		\n\n\n\n \n\n\n\n\n\n\n\nRSVP Now!\n\n\n\nPlease include the total number of guests in your group when you RSVP.
URL:https://div2.ncrnmra.org/event/2026-spring-open-house/
CATEGORIES:Events
ATTACH;FMTTYPE=image/jpeg:https://div2.ncrnmra.org/wp-content/uploads/2025/11/7-Midland-Trestle.jpg
ORGANIZER;CN="Jens Hensel":MAILTO:super@div2.ncrnmra.org
END:VEVENT
BEGIN:VEVENT
DTSTART;TZID=America/Detroit:20261008T000000
DTEND;TZID=America/Detroit:20261010T235959
DTSTAMP:20260423T132411
CREATED:20260201T222016Z
LAST-MODIFIED:20260201T223123Z
UID:1946-1791417600-1791676799@div2.ncrnmra.org
SUMMARY:Grand Rails 2026
DESCRIPTION:Division Four of the North Central Region (NCR) of the National Model Railroad Association (NMRA) is hosting this year’s regional convention in Zeeland\, Michigan at: Howard Miller Community Center 14 South Church StreetZeeland\, MI\, 49464 \n\n\n\nThis convention will feature: \n\n\n\n\nClinics\n\n\n\nLayout tours\n\n\n\nOperating sessions\n\n\n\nLocal events\n\n\n\n\nFor full details\, please follow the link below.
URL:https://div2.ncrnmra.org/event/grand-rails-2026/
CATEGORIES:Events
ATTACH;FMTTYPE=image/jpeg:https://div2.ncrnmra.org/wp-content/uploads/2025/12/logo_2026-e1765992836745.jpg
END:VEVENT
END:VCALENDAR